BEGIN:VCALENDAR
VERSION:2.0
PRODID:-//athlelana - ECPv5.16.1//NONSGML v1.0//EN
CALSCALE:GREGORIAN
METHOD:PUBLISH
X-WR-CALNAME:athlelana
X-ORIGINAL-URL:https://athlelana.com
X-WR-CALDESC:évènements pour athlelana
BEGIN:VTIMEZONE
TZID:Europe/Helsinki
BEGIN:DAYLIGHT
TZOFFSETFROM:+0200
TZOFFSETTO:+0300
TZNAME:EEST
DTSTART:20180325T010000
END:DAYLIGHT
BEGIN:STANDARD
TZOFFSETFROM:+0300
TZOFFSETTO:+0200
TZNAME:EET
DTSTART:20181028T010000
END:STANDARD
END:VTIMEZONE
BEGIN:VEVENT
DTSTART;VALUE=DATE:20180616
DTEND;VALUE=DATE:20180617
DTSTAMP:20260424T211313
CREATED:20180412T122223Z
LAST-MODIFIED:20180412T122223Z
UID:5778-1529107200-1529193599@athlelana.com
SUMMARY:Pré régionaux Sud
DESCRIPTION:Retrouvez toutes les informations ici
URL:https://athlelana.com/event/pre-regionaux-sud/
LOCATION:Saint André de Cubzac
CATEGORIES:Piste/Salle
END:VEVENT
END:VCALENDAR