BEGIN:VCALENDAR
VERSION:2.0
PRODID:-//athlelana - ECPv5.16.1//NONSGML v1.0//EN
CALSCALE:GREGORIAN
METHOD:PUBLISH
X-WR-CALNAME:athlelana
X-ORIGINAL-URL:https://athlelana.com
X-WR-CALDESC:évènements pour athlelana
BEGIN:VTIMEZONE
TZID:Europe/Helsinki
BEGIN:DAYLIGHT
TZOFFSETFROM:+0200
TZOFFSETTO:+0300
TZNAME:EEST
DTSTART:20210328T010000
END:DAYLIGHT
BEGIN:STANDARD
TZOFFSETFROM:+0300
TZOFFSETTO:+0200
TZNAME:EET
DTSTART:20211031T010000
END:STANDARD
END:VTIMEZONE
BEGIN:VEVENT
DTSTART;VALUE=DATE:20210117
DTEND;VALUE=DATE:20210118
DTSTAMP:20260420T100620
CREATED:20210104T120042Z
LAST-MODIFIED:20210106T113748Z
UID:13999-1610841600-1610927999@athlelana.com
SUMMARY:Meeting athlètes listés
DESCRIPTION:Retrouvez les informations de la compétition ici.
URL:https://athlelana.com/event/meeting-athletes-listes/
LOCATION:Bordeaux Lac
CATEGORIES:Piste/Salle
END:VEVENT
END:VCALENDAR