BEGIN:VCALENDAR
VERSION:2.0
PRODID:-//athlelana - ECPv5.16.1//NONSGML v1.0//EN
CALSCALE:GREGORIAN
METHOD:PUBLISH
X-WR-CALNAME:athlelana
X-ORIGINAL-URL:https://athlelana.com
X-WR-CALDESC:évènements pour athlelana
BEGIN:VTIMEZONE
TZID:Europe/Helsinki
BEGIN:DAYLIGHT
TZOFFSETFROM:+0200
TZOFFSETTO:+0300
TZNAME:EEST
DTSTART:20180325T010000
END:DAYLIGHT
BEGIN:STANDARD
TZOFFSETFROM:+0300
TZOFFSETTO:+0200
TZNAME:EET
DTSTART:20181028T010000
END:STANDARD
END:VTIMEZONE
BEGIN:VEVENT
DTSTART;VALUE=DATE:20180708
DTEND;VALUE=DATE:20180709
DTSTAMP:20260424T110516
CREATED:20180412T123127Z
LAST-MODIFIED:20180705T092015Z
UID:5790-1531008000-1531094399@athlelana.com
SUMMARY:Finale régionale Pointes d'Or B
DESCRIPTION:Retrouvez toutes les informations ici \nLes horaires sont ici
URL:https://athlelana.com/event/finale-regionale-pointes-dor-b/
LOCATION:Cognac
CATEGORIES:Jeunes
END:VEVENT
END:VCALENDAR