BEGIN:VCALENDAR
VERSION:2.0
PRODID:-//athlelana - ECPv5.16.1//NONSGML v1.0//EN
CALSCALE:GREGORIAN
METHOD:PUBLISH
X-WR-CALNAME:athlelana
X-ORIGINAL-URL:https://athlelana.com
X-WR-CALDESC:évènements pour athlelana
BEGIN:VTIMEZONE
TZID:Europe/Helsinki
BEGIN:DAYLIGHT
TZOFFSETFROM:+0200
TZOFFSETTO:+0300
TZNAME:EEST
DTSTART:20200329T010000
END:DAYLIGHT
BEGIN:STANDARD
TZOFFSETFROM:+0300
TZOFFSETTO:+0200
TZNAME:EET
DTSTART:20201025T010000
END:STANDARD
END:VTIMEZONE
BEGIN:VEVENT
DTSTART;VALUE=DATE:20201024
DTEND;VALUE=DATE:20201026
DTSTAMP:20260424T123044
CREATED:20201019T120805Z
LAST-MODIFIED:20201019T120835Z
UID:13225-1603497600-1603670399@athlelana.com
SUMMARY:Finale Nationale Equip'Athlé Minimes
DESCRIPTION:Retrouvez les informations ici.
URL:https://athlelana.com/event/finale-nationale-equipathle-minimes/
LOCATION:Tours
CATEGORIES:Jeunes
END:VEVENT
END:VCALENDAR