BEGIN:VCALENDAR
VERSION:2.0
PRODID:-//athlelana - ECPv5.16.1//NONSGML v1.0//EN
CALSCALE:GREGORIAN
METHOD:PUBLISH
X-WR-CALNAME:athlelana
X-ORIGINAL-URL:https://athlelana.com
X-WR-CALDESC:évènements pour athlelana
BEGIN:VTIMEZONE
TZID:Europe/Helsinki
BEGIN:DAYLIGHT
TZOFFSETFROM:+0200
TZOFFSETTO:+0300
TZNAME:EEST
DTSTART:20180325T010000
END:DAYLIGHT
BEGIN:STANDARD
TZOFFSETFROM:+0300
TZOFFSETTO:+0200
TZNAME:EET
DTSTART:20181028T010000
END:STANDARD
END:VTIMEZONE
BEGIN:VEVENT
DTSTART;VALUE=DATE:20181216
DTEND;VALUE=DATE:20181217
DTSTAMP:20260419T153029
CREATED:20181203T142657Z
LAST-MODIFIED:20181203T142657Z
UID:7054-1544918400-1545004799@athlelana.com
SUMMARY:Cross du Cognac AC
DESCRIPTION:Retrouvez les informations ici
URL:https://athlelana.com/event/cross-du-cognac-ac/
LOCATION:Cognac
CATEGORIES:Hors-Stade
END:VEVENT
END:VCALENDAR