BEGIN:VCALENDAR
VERSION:2.0
PRODID:-//athlelana - ECPv5.16.1//NONSGML v1.0//EN
CALSCALE:GREGORIAN
METHOD:PUBLISH
X-WR-CALNAME:athlelana
X-ORIGINAL-URL:https://athlelana.com
X-WR-CALDESC:évènements pour athlelana
BEGIN:VTIMEZONE
TZID:Europe/Helsinki
BEGIN:DAYLIGHT
TZOFFSETFROM:+0200
TZOFFSETTO:+0300
TZNAME:EEST
DTSTART:20180325T010000
END:DAYLIGHT
BEGIN:STANDARD
TZOFFSETFROM:+0300
TZOFFSETTO:+0200
TZNAME:EET
DTSTART:20181028T010000
END:STANDARD
END:VTIMEZONE
BEGIN:VEVENT
DTSTART;VALUE=DATE:20180630
DTEND;VALUE=DATE:20180701
DTSTAMP:20260424T143751
CREATED:20180412T123002Z
LAST-MODIFIED:20180412T123002Z
UID:5787-1530316800-1530403199@athlelana.com
SUMMARY:Championnats régionaux LANA
DESCRIPTION:Retrouvez toutes les informations ici
URL:https://athlelana.com/event/championnats-regionaux-lana/
LOCATION:Brive La Gaillarde
CATEGORIES:Piste/Salle
END:VEVENT
END:VCALENDAR