BEGIN:VCALENDAR
VERSION:2.0
PRODID:-//athlelana - ECPv5.16.1//NONSGML v1.0//EN
CALSCALE:GREGORIAN
METHOD:PUBLISH
X-WR-CALNAME:athlelana
X-ORIGINAL-URL:https://athlelana.com
X-WR-CALDESC:évènements pour athlelana
BEGIN:VTIMEZONE
TZID:Europe/Helsinki
BEGIN:DAYLIGHT
TZOFFSETFROM:+0200
TZOFFSETTO:+0300
TZNAME:EEST
DTSTART:20180325T010000
END:DAYLIGHT
BEGIN:STANDARD
TZOFFSETFROM:+0300
TZOFFSETTO:+0200
TZNAME:EET
DTSTART:20181028T010000
END:STANDARD
END:VTIMEZONE
BEGIN:VEVENT
DTSTART;TZID=Europe/Helsinki:20180623T130000
DTEND;TZID=Europe/Helsinki:20180623T160000
DTSTAMP:20260424T173234
CREATED:20180412T122613Z
LAST-MODIFIED:20180412T122613Z
UID:5780-1529758800-1529769600@athlelana.com
SUMMARY:Championnats Interclubs MAsters
DESCRIPTION:Retrouvez toutes les informations ici
URL:https://athlelana.com/event/championnats-interclubs-masters/
LOCATION:Talence
CATEGORIES:Masters
END:VEVENT
END:VCALENDAR