BEGIN:VCALENDAR
VERSION:2.0
PRODID:-//athlelana - ECPv5.16.1//NONSGML v1.0//EN
CALSCALE:GREGORIAN
METHOD:PUBLISH
X-WR-CALNAME:athlelana
X-ORIGINAL-URL:https://athlelana.com
X-WR-CALDESC:évènements pour athlelana
BEGIN:VTIMEZONE
TZID:Europe/Paris
BEGIN:DAYLIGHT
TZOFFSETFROM:+0100
TZOFFSETTO:+0200
TZNAME:CEST
DTSTART:20250330T010000
END:DAYLIGHT
BEGIN:STANDARD
TZOFFSETFROM:+0200
TZOFFSETTO:+0100
TZNAME:CET
DTSTART:20251026T010000
END:STANDARD
END:VTIMEZONE
BEGIN:VEVENT
DTSTART;TZID=Europe/Paris:20250913T093000
DTEND;TZID=Europe/Paris:20250913T170000
DTSTAMP:20260422T062501
CREATED:20250713T001241Z
LAST-MODIFIED:20250713T001335Z
UID:28827-1757755800-1757782800@athlelana.com
SUMMARY:Cann' & Jamb' (marche nordique)
DESCRIPTION:Cann’ et Jamb’ : 1ère épreuve de l’édition 2025-2026 du Challenge Marche Nordique de la LANA \n\n 13 septembre 2025 – départ 9h30 (12\,7km)\n Canéjan (33) – Centre George Signoret\n\n + remise de récompense du challenge 2024-2025\n\nINSCRIPTIONS
URL:https://athlelana.com/event/cann-jamb-marche-nordique/
LOCATION:Canéjan
CATEGORIES:Hors-Stade
END:VEVENT
END:VCALENDAR